BEGIN:VCALENDAR
VERSION:2.0
PRODID:-//Sisters Living Works – An NGO Dedicated to Suicide Prevention  Sisters Living Works - ECPv6.15.20//NONSGML v1.0//EN
CALSCALE:GREGORIAN
METHOD:PUBLISH
X-WR-CALNAME:Sisters Living Works – An NGO Dedicated to Suicide Prevention  Sisters Living Works
X-ORIGINAL-URL:https://sisterslivingworks.org
X-WR-CALDESC:Events for Sisters Living Works – An NGO Dedicated to Suicide Prevention  Sisters Living Works
REFRESH-INTERVAL;VALUE=DURATION:PT1H
X-Robots-Tag:noindex
X-PUBLISHED-TTL:PT1H
BEGIN:VTIMEZONE
TZID:UTC
BEGIN:STANDARD
TZOFFSETFROM:+0000
TZOFFSETTO:+0000
TZNAME:UTC
DTSTART:20190101T000000
END:STANDARD
END:VTIMEZONE
BEGIN:VEVENT
DTSTART;TZID=UTC:20201216T160000
DTEND;TZID=UTC:20201216T160000
DTSTAMP:20260424T011733
CREATED:20201201T103834Z
LAST-MODIFIED:20260226T054830Z
UID:2608-1608134400-1608134400@sisterslivingworks.org
SUMMARY:Mental Health Support Group
DESCRIPTION:A support group to help you cope with feelings of loneliness\, stress or any emotional distress
URL:https://sisterslivingworks.org/event/mental-health-support-group-4/
CATEGORIES:Uncategory
END:VEVENT
END:VCALENDAR