BEGIN:VCALENDAR
VERSION:2.0
PRODID:-//Sisters Living Works – An NGO Dedicated to Suicide Prevention  Sisters Living Works - ECPv6.15.20//NONSGML v1.0//EN
CALSCALE:GREGORIAN
METHOD:PUBLISH
X-ORIGINAL-URL:https://sisterslivingworks.org
X-WR-CALDESC:Events for Sisters Living Works – An NGO Dedicated to Suicide Prevention  Sisters Living Works
REFRESH-INTERVAL;VALUE=DURATION:PT1H
X-Robots-Tag:noindex
X-PUBLISHED-TTL:PT1H
BEGIN:VTIMEZONE
TZID:UTC
BEGIN:STANDARD
TZOFFSETFROM:+0000
TZOFFSETTO:+0000
TZNAME:UTC
DTSTART:20190101T000000
END:STANDARD
END:VTIMEZONE
BEGIN:VEVENT
DTSTART;TZID=UTC:20200731T150000
DTEND;TZID=UTC:20200731T170000
DTSTAMP:20260424T063841
CREATED:20200721T161124Z
LAST-MODIFIED:20260226T054830Z
UID:2484-1596207600-1596214800@sisterslivingworks.org
SUMMARY:Workshop on Suicide Prevention Awareness
DESCRIPTION:
URL:https://sisterslivingworks.org/event/workshop-on-suicide-prevention-awareness/
CATEGORIES:Uncategory
END:VEVENT
END:VCALENDAR