BEGIN:VCALENDAR
VERSION:2.0
PRODID:-//Sisters Living Works – An NGO Dedicated to Suicide Prevention  Sisters Living Works - ECPv6.15.20//NONSGML v1.0//EN
CALSCALE:GREGORIAN
METHOD:PUBLISH
X-ORIGINAL-URL:https://sisterslivingworks.org
X-WR-CALDESC:Events for Sisters Living Works – An NGO Dedicated to Suicide Prevention  Sisters Living Works
REFRESH-INTERVAL;VALUE=DURATION:PT1H
X-Robots-Tag:noindex
X-PUBLISHED-TTL:PT1H
BEGIN:VTIMEZONE
TZID:UTC
BEGIN:STANDARD
TZOFFSETFROM:+0000
TZOFFSETTO:+0000
TZNAME:UTC
DTSTART:20190101T000000
END:STANDARD
END:VTIMEZONE
BEGIN:VEVENT
DTSTART;TZID=UTC:20200714T150000
DTEND;TZID=UTC:20200714T170000
DTSTAMP:20260424T075755
CREATED:20200629T111604Z
LAST-MODIFIED:20260226T054830Z
UID:2468-1594738800-1594746000@sisterslivingworks.org
SUMMARY:Suicide Prevention Awareness Workshop
DESCRIPTION:Join us for the workshop on 14 July at 3 pm
URL:https://sisterslivingworks.org/event/suicide-prevention-awareness-workshop/
CATEGORIES:Uncategory
END:VEVENT
END:VCALENDAR