BEGIN:VCALENDAR
VERSION:2.0
PRODID:-//Sisters Living Works – An NGO Dedicated to Suicide Prevention  Sisters Living Works - ECPv6.15.20//NONSGML v1.0//EN
CALSCALE:GREGORIAN
METHOD:PUBLISH
X-WR-CALNAME:Sisters Living Works – An NGO Dedicated to Suicide Prevention  Sisters Living Works
X-ORIGINAL-URL:https://sisterslivingworks.org
X-WR-CALDESC:Events for Sisters Living Works – An NGO Dedicated to Suicide Prevention  Sisters Living Works
REFRESH-INTERVAL;VALUE=DURATION:PT1H
X-Robots-Tag:noindex
X-PUBLISHED-TTL:PT1H
BEGIN:VTIMEZONE
TZID:UTC
BEGIN:STANDARD
TZOFFSETFROM:+0000
TZOFFSETTO:+0000
TZNAME:UTC
DTSTART:20190101T000000
END:STANDARD
END:VTIMEZONE
BEGIN:VEVENT
DTSTART;TZID=UTC:20200702T150000
DTEND;TZID=UTC:20200702T170000
DTSTAMP:20260424T063502
CREATED:20200629T111738Z
LAST-MODIFIED:20260226T054906Z
UID:2465-1593702000-1593709200@sisterslivingworks.org
SUMMARY:Suicide Prevention Awareness Workshop
DESCRIPTION:  \n  \nJoin us for Awareness workshop on 2 July\, 2020
URL:https://sisterslivingworks.org/event/suicide-prevention-awareness-workshop-2/
CATEGORIES:Uncategory
END:VEVENT
BEGIN:VEVENT
DTSTART;TZID=UTC:20200702T160000
DTEND;TZID=UTC:20200702T170000
DTSTAMP:20260424T063502
CREATED:20200629T112543Z
LAST-MODIFIED:20260226T054906Z
UID:2476-1593705600-1593709200@sisterslivingworks.org
SUMMARY:Support Group for Survivors of Suicide Loss
DESCRIPTION:If you have lost a loved one to suicide reach out to us and be a part of a healing community
URL:https://sisterslivingworks.org/event/support-group-for-survivors-of-suicide-loss-4/
CATEGORIES:Uncategory
END:VEVENT
BEGIN:VEVENT
DTSTART;TZID=UTC:20200709T163000
DTEND;TZID=UTC:20200709T170000
DTSTAMP:20260424T063502
CREATED:20200629T112307Z
LAST-MODIFIED:20260226T054906Z
UID:2472-1594312200-1594314000@sisterslivingworks.org
SUMMARY:Mental Health Support Group
DESCRIPTION:A support group to help you cope with feelings of loneliness\, stress or any emotional distress
URL:https://sisterslivingworks.org/event/mental-health-support-group-2/
CATEGORIES:Uncategory
END:VEVENT
BEGIN:VEVENT
DTSTART;TZID=UTC:20200714T150000
DTEND;TZID=UTC:20200714T170000
DTSTAMP:20260424T063502
CREATED:20200629T111604Z
LAST-MODIFIED:20260226T054830Z
UID:2468-1594738800-1594746000@sisterslivingworks.org
SUMMARY:Suicide Prevention Awareness Workshop
DESCRIPTION:Join us for the workshop on 14 July at 3 pm
URL:https://sisterslivingworks.org/event/suicide-prevention-awareness-workshop/
CATEGORIES:Uncategory
END:VEVENT
BEGIN:VEVENT
DTSTART;TZID=UTC:20200731T150000
DTEND;TZID=UTC:20200731T170000
DTSTAMP:20260424T063502
CREATED:20200721T161124Z
LAST-MODIFIED:20260226T054830Z
UID:2484-1596207600-1596214800@sisterslivingworks.org
SUMMARY:Workshop on Suicide Prevention Awareness
DESCRIPTION:
URL:https://sisterslivingworks.org/event/workshop-on-suicide-prevention-awareness/
CATEGORIES:Uncategory
END:VEVENT
END:VCALENDAR