BEGIN:VCALENDAR
VERSION:2.0
PRODID:-//Sisters Living Works – An NGO Dedicated to Suicide Prevention  Sisters Living Works - ECPv6.15.20//NONSGML v1.0//EN
CALSCALE:GREGORIAN
METHOD:PUBLISH
X-WR-CALNAME:Sisters Living Works – An NGO Dedicated to Suicide Prevention  Sisters Living Works
X-ORIGINAL-URL:https://sisterslivingworks.org
X-WR-CALDESC:Events for Sisters Living Works – An NGO Dedicated to Suicide Prevention  Sisters Living Works
REFRESH-INTERVAL;VALUE=DURATION:PT1H
X-Robots-Tag:noindex
X-PUBLISHED-TTL:PT1H
BEGIN:VTIMEZONE
TZID:UTC
BEGIN:STANDARD
TZOFFSETFROM:+0000
TZOFFSETTO:+0000
TZNAME:UTC
DTSTART:20220101T000000
END:STANDARD
END:VTIMEZONE
BEGIN:VEVENT
DTSTART;TZID=UTC:20240527T190000
DTEND;TZID=UTC:20240527T200000
DTSTAMP:20260420T024426
CREATED:20240508T060030Z
LAST-MODIFIED:20240508T060030Z
UID:4050-1716836400-1716840000@sisterslivingworks.org
SUMMARY:Support Group
DESCRIPTION:
URL:https://sisterslivingworks.org/event/support-group-14/
CATEGORIES:Support Group
END:VEVENT
BEGIN:VEVENT
DTSTART;TZID=UTC:20240524T110000
DTEND;TZID=UTC:20240524T130000
DTSTAMP:20260420T024426
CREATED:20240508T055105Z
LAST-MODIFIED:20240508T055105Z
UID:4048-1716548400-1716555600@sisterslivingworks.org
SUMMARY:Support Group
DESCRIPTION:
URL:https://sisterslivingworks.org/event/support-group-13/
CATEGORIES:Support Group
END:VEVENT
BEGIN:VEVENT
DTSTART;TZID=UTC:20240513T190000
DTEND;TZID=UTC:20240513T200000
DTSTAMP:20260420T024426
CREATED:20240508T054822Z
LAST-MODIFIED:20240508T054822Z
UID:4046-1715626800-1715630400@sisterslivingworks.org
SUMMARY:Support Group
DESCRIPTION:
URL:https://sisterslivingworks.org/event/support-group-12/
CATEGORIES:Support Group
END:VEVENT
BEGIN:VEVENT
DTSTART;TZID=UTC:20240510T110000
DTEND;TZID=UTC:20240510T130000
DTSTAMP:20260420T024426
CREATED:20240508T054449Z
LAST-MODIFIED:20240508T054449Z
UID:4044-1715338800-1715346000@sisterslivingworks.org
SUMMARY:Support Group
DESCRIPTION:
URL:https://sisterslivingworks.org/event/support-group-11/
CATEGORIES:Support Group
END:VEVENT
BEGIN:VEVENT
DTSTART;TZID=UTC:20240406T113000
DTEND;TZID=UTC:20240406T133000
DTSTAMP:20260420T024426
CREATED:20240326T095107Z
LAST-MODIFIED:20240326T095107Z
UID:4009-1712403000-1712410200@sisterslivingworks.org
SUMMARY:Support Group
DESCRIPTION:
URL:https://sisterslivingworks.org/event/support-group-10/
CATEGORIES:Support Group
END:VEVENT
BEGIN:VEVENT
DTSTART;TZID=UTC:20240327T190000
DTEND;TZID=UTC:20240327T200000
DTSTAMP:20260420T024426
CREATED:20240326T094325Z
LAST-MODIFIED:20240326T094325Z
UID:4000-1711566000-1711569600@sisterslivingworks.org
SUMMARY:Support Group
DESCRIPTION:
URL:https://sisterslivingworks.org/event/support-group-9/
CATEGORIES:Support Group
END:VEVENT
BEGIN:VEVENT
DTSTART;TZID=UTC:20240326T120000
DTEND;TZID=UTC:20240326T133000
DTSTAMP:20260420T024426
CREATED:20240326T093741Z
LAST-MODIFIED:20240326T093741Z
UID:3991-1711454400-1711459800@sisterslivingworks.org
SUMMARY:Support Group
DESCRIPTION:
URL:https://sisterslivingworks.org/event/support-group-8/
CATEGORIES:Support Group
END:VEVENT
BEGIN:VEVENT
DTSTART;TZID=UTC:20231223T160000
DTEND;TZID=UTC:20231223T170000
DTSTAMP:20260420T024426
CREATED:20231128T101132Z
LAST-MODIFIED:20231128T101132Z
UID:3866-1703347200-1703350800@sisterslivingworks.org
SUMMARY:Support Group
DESCRIPTION:
URL:https://sisterslivingworks.org/event/support-group-7/
CATEGORIES:Support Group
END:VEVENT
BEGIN:VEVENT
DTSTART;TZID=UTC:20231214T190000
DTEND;TZID=UTC:20231214T200000
DTSTAMP:20260420T024426
CREATED:20231128T100559Z
LAST-MODIFIED:20231128T100559Z
UID:3864-1702580400-1702584000@sisterslivingworks.org
SUMMARY:Support Group
DESCRIPTION:
URL:https://sisterslivingworks.org/event/support-group-6/
CATEGORIES:Support Group
END:VEVENT
BEGIN:VEVENT
DTSTART;TZID=UTC:20231204T190000
DTEND;TZID=UTC:20231204T200000
DTSTAMP:20260420T024426
CREATED:20231128T092420Z
LAST-MODIFIED:20231128T092420Z
UID:3862-1701716400-1701720000@sisterslivingworks.org
SUMMARY:Support Group
DESCRIPTION:
URL:https://sisterslivingworks.org/event/support-group-5/
CATEGORIES:Support Group
END:VEVENT
BEGIN:VEVENT
DTSTART;TZID=UTC:20231026T160000
DTEND;TZID=UTC:20231026T170000
DTSTAMP:20260420T024426
CREATED:20231005T073557Z
LAST-MODIFIED:20231005T073557Z
UID:3848-1698336000-1698339600@sisterslivingworks.org
SUMMARY:Support Group
DESCRIPTION:
URL:https://sisterslivingworks.org/event/support-group-4/
CATEGORIES:Support Group
END:VEVENT
BEGIN:VEVENT
DTSTART;TZID=UTC:20231021T160000
DTEND;TZID=UTC:20231021T170000
DTSTAMP:20260420T024426
CREATED:20231005T073426Z
LAST-MODIFIED:20231005T073426Z
UID:3846-1697904000-1697907600@sisterslivingworks.org
SUMMARY:Support Group
DESCRIPTION:
URL:https://sisterslivingworks.org/event/support-group-3/
CATEGORIES:Support Group
END:VEVENT
BEGIN:VEVENT
DTSTART;TZID=UTC:20231010T193000
DTEND;TZID=UTC:20231010T203000
DTSTAMP:20260420T024426
CREATED:20231005T073238Z
LAST-MODIFIED:20231005T073238Z
UID:3844-1696966200-1696969800@sisterslivingworks.org
SUMMARY:Support Group
DESCRIPTION:
URL:https://sisterslivingworks.org/event/support-group-2/
CATEGORIES:Support Group
END:VEVENT
BEGIN:VEVENT
DTSTART;TZID=UTC:20230808T200000
DTEND;TZID=UTC:20230808T210000
DTSTAMP:20260420T024426
CREATED:20230808T053025Z
LAST-MODIFIED:20230808T053025Z
UID:3764-1691524800-1691528400@sisterslivingworks.org
SUMMARY:Support Group August
DESCRIPTION:
URL:https://sisterslivingworks.org/event/support-group-august/
CATEGORIES:Support Group
END:VEVENT
END:VCALENDAR