BEGIN:VCALENDAR
VERSION:2.0
PRODID:-//Sisters Living Works – An NGO Dedicated to Suicide Prevention  Sisters Living Works - ECPv6.15.20//NONSGML v1.0//EN
CALSCALE:GREGORIAN
METHOD:PUBLISH
X-WR-CALNAME:Sisters Living Works – An NGO Dedicated to Suicide Prevention  Sisters Living Works
X-ORIGINAL-URL:https://sisterslivingworks.org
X-WR-CALDESC:Events for Sisters Living Works – An NGO Dedicated to Suicide Prevention  Sisters Living Works
REFRESH-INTERVAL;VALUE=DURATION:PT1H
X-Robots-Tag:noindex
X-PUBLISHED-TTL:PT1H
BEGIN:VTIMEZONE
TZID:UTC
BEGIN:STANDARD
TZOFFSETFROM:+0000
TZOFFSETTO:+0000
TZNAME:UTC
DTSTART:20240101T000000
END:STANDARD
END:VTIMEZONE
BEGIN:VEVENT
DTSTART;TZID=UTC:20251123T110000
DTEND;TZID=UTC:20251123T120000
DTSTAMP:20260424T012313
CREATED:20251029T103207Z
LAST-MODIFIED:20260226T091118Z
UID:7777-1763895600-1763899200@sisterslivingworks.org
SUMMARY:Stress Management
DESCRIPTION:
URL:https://sisterslivingworks.org/event/stress-management-5/
LOCATION:USF\, India
CATEGORIES:workshops
END:VEVENT
BEGIN:VEVENT
DTSTART;TZID=UTC:20251123T120000
DTEND;TZID=UTC:20251123T130000
DTSTAMP:20260424T012313
CREATED:20251029T103323Z
LAST-MODIFIED:20260226T091027Z
UID:7779-1763899200-1763902800@sisterslivingworks.org
SUMMARY:Diversity and Inclusion
DESCRIPTION:
URL:https://sisterslivingworks.org/event/diversity-and-inclusion/
LOCATION:USF\, India
CATEGORIES:workshops
END:VEVENT
END:VCALENDAR